BEGIN:VCALENDAR
VERSION:2.0
PRODID:-//Fluency Group - ECPv6.15.20//NONSGML v1.0//EN
CALSCALE:GREGORIAN
METHOD:PUBLISH
X-WR-CALNAME:Fluency Group
X-ORIGINAL-URL:https://fluency-group.com
X-WR-CALDESC:Events for Fluency Group
REFRESH-INTERVAL;VALUE=DURATION:PT1H
X-Robots-Tag:noindex
X-PUBLISHED-TTL:PT1H
BEGIN:VTIMEZONE
TZID:Europe/London
BEGIN:DAYLIGHT
TZOFFSETFROM:+0000
TZOFFSETTO:+0100
TZNAME:BST
DTSTART:20240331T010000
END:DAYLIGHT
BEGIN:STANDARD
TZOFFSETFROM:+0100
TZOFFSETTO:+0000
TZNAME:GMT
DTSTART:20241027T010000
END:STANDARD
BEGIN:DAYLIGHT
TZOFFSETFROM:+0000
TZOFFSETTO:+0100
TZNAME:BST
DTSTART:20250330T010000
END:DAYLIGHT
BEGIN:STANDARD
TZOFFSETFROM:+0100
TZOFFSETTO:+0000
TZNAME:GMT
DTSTART:20251026T010000
END:STANDARD
BEGIN:DAYLIGHT
TZOFFSETFROM:+0000
TZOFFSETTO:+0100
TZNAME:BST
DTSTART:20260329T010000
END:DAYLIGHT
BEGIN:STANDARD
TZOFFSETFROM:+0100
TZOFFSETTO:+0000
TZNAME:GMT
DTSTART:20261025T010000
END:STANDARD
END:VTIMEZONE
BEGIN:VEVENT
DTSTART;TZID=Europe/London:20250107T080000
DTEND;TZID=Europe/London:20250110T170000
DTSTAMP:20260422T071014
CREATED:20240927T133010Z
LAST-MODIFIED:20240927T133010Z
UID:1539-1736236800-1736528400@fluency-group.com
SUMMARY:CES
DESCRIPTION:This is the hub where international brands conduct their business\, discover new collaborators\, and where the brightest intellects in the industry showcase their newest products and groundbreaking innovations. Experience the latest answers to the globe’s most pressing problems through engaging activations and demonstrations. Connect with the most influential thinkers and significant brands of our era. Registration for CES 2025 is currently available.
URL:https://fluency-group.com/industry-event/ces/
LOCATION:Las Vegas Convention Center\, Nevada\, NV\, United States
END:VEVENT
BEGIN:VEVENT
DTSTART;TZID=Europe/London:20250120T080000
DTEND;TZID=Europe/London:20250123T170000
DTSTAMP:20260422T071014
CREATED:20240927T133520Z
LAST-MODIFIED:20240927T133520Z
UID:1542-1737360000-1737651600@fluency-group.com
SUMMARY:World of Concrete
DESCRIPTION:There’s only one place you’ll find the heavy hitters of concrete and masonry this January: Las Vegas — at World of Concrete 2025\, the largest and only annual international event dedicated to your business. Get your hands on the latest technologies revolutionizing safety\, performance\, and speed\, and learn what it takes to not only claim a piece of our industry’s massive projected growth\, but dominate the field.
URL:https://fluency-group.com/industry-event/world-of-concrete/
LOCATION:Las Vegas Convention Center\, Nevada\, NV\, United States
END:VEVENT
BEGIN:VEVENT
DTSTART;TZID=Europe/London:20250121T080000
DTEND;TZID=Europe/London:20250123T170000
DTSTAMP:20260422T071014
CREATED:20240927T133955Z
LAST-MODIFIED:20240927T133955Z
UID:1544-1737446400-1737651600@fluency-group.com
SUMMARY:ICERP
DESCRIPTION:The FRP Institute organizes ICERP India\, a significant event for the Indian composites industry\, biennially. It stands as the largest composites event in India and the second largest in Asia. The forthcoming ICERP 2025 marks the 11th occurrence of this prestigious event since its inception in 2002\, scheduled from January 21st to 23rd\, 2025\, at the Bombay Exhibition Centre in Mumbai\, India. The upcoming ICERP show aims to elevate the composites technology in India to international standards in product quality and finishing\, while also addressing the necessary challenges to meet these global benchmarks.
URL:https://fluency-group.com/industry-event/icerp/
LOCATION:Bombay Exhibition Centre\, Mumbai\, Mumbai\, India
END:VEVENT
BEGIN:VEVENT
DTSTART;TZID=Europe/London:20250128T080000
DTEND;TZID=Europe/London:20250130T170000
DTSTAMP:20260422T071014
CREATED:20240927T134930Z
LAST-MODIFIED:20240927T134930Z
UID:1547-1738051200-1738256400@fluency-group.com
SUMMARY:HyVolution
DESCRIPTION:Hyvolution Paris encompasses the full spectrum of the value chain across three primary markets: mobility\, energy\, and industry. This presents a significant benefit for business development\, forming partnerships\, and consolidating resources.
URL:https://fluency-group.com/industry-event/hyvolution/
LOCATION:Paris Porte de Versailles\, Paris\, France
END:VEVENT
END:VCALENDAR