BEGIN:VCALENDAR
VERSION:2.0
PRODID:-//Fluency Group - ECPv6.15.20//NONSGML v1.0//EN
CALSCALE:GREGORIAN
METHOD:PUBLISH
X-ORIGINAL-URL:https://fluency-group.com
X-WR-CALDESC:Events for Fluency Group
REFRESH-INTERVAL;VALUE=DURATION:PT1H
X-Robots-Tag:noindex
X-PUBLISHED-TTL:PT1H
BEGIN:VTIMEZONE
TZID:Europe/London
BEGIN:DAYLIGHT
TZOFFSETFROM:+0000
TZOFFSETTO:+0100
TZNAME:BST
DTSTART:20230326T010000
END:DAYLIGHT
BEGIN:STANDARD
TZOFFSETFROM:+0100
TZOFFSETTO:+0000
TZNAME:GMT
DTSTART:20231029T010000
END:STANDARD
BEGIN:DAYLIGHT
TZOFFSETFROM:+0000
TZOFFSETTO:+0100
TZNAME:BST
DTSTART:20240331T010000
END:DAYLIGHT
BEGIN:STANDARD
TZOFFSETFROM:+0100
TZOFFSETTO:+0000
TZNAME:GMT
DTSTART:20241027T010000
END:STANDARD
BEGIN:DAYLIGHT
TZOFFSETFROM:+0000
TZOFFSETTO:+0100
TZNAME:BST
DTSTART:20250330T010000
END:DAYLIGHT
BEGIN:STANDARD
TZOFFSETFROM:+0100
TZOFFSETTO:+0000
TZNAME:GMT
DTSTART:20251026T010000
END:STANDARD
END:VTIMEZONE
BEGIN:VEVENT
DTSTART;TZID=Europe/London:20240206T080000
DTEND;TZID=Europe/London:20240206T170000
DTSTAMP:20260421T104817
CREATED:20240131T112716Z
LAST-MODIFIED:20240131T112716Z
UID:1207-1707206400-1707238800@fluency-group.com
SUMMARY:SAMPE UKIC Annual Seminar
DESCRIPTION:Kicking off the year is the SAMPE UKIC Annual Seminar. This is a one-day event\, taking place from 8am – 5pm at the AMRC Factory 2050 in Rotherham\, UK. This year’s title is “Composites 4.0: Innovating for a Changing Environment”. The day will consist of technical presentations\, tabletop exhibits and networking opportunities. Attendance prices range from £55 – £200.
URL:https://fluency-group.com/industry-event/sampe-ukic-annual-seminar/
LOCATION:Factory 2050\, Sheffield\, Europa Ave\, Tinsley\, Sheffield\, Rotherham\, Sheffield\, S9 1ZA\, United Kingdom
END:VEVENT
BEGIN:VEVENT
DTSTART;TZID=Europe/London:20240206T080000
DTEND;TZID=Europe/London:20240208T170000
DTSTAMP:20260421T104817
CREATED:20240131T113049Z
LAST-MODIFIED:20240131T113049Z
UID:1210-1707206400-1707411600@fluency-group.com
SUMMARY:Southern Manufacturing & Electronics
DESCRIPTION:For those involved in design\, engineering production and procurement\, Southern Manufacturing & Electronics is a “must-attend event”. Located in the Farnborough International Exhibition and Conference Centre\, UK\, the event will begin at 9:30am each day. Attendance tickets are free and on-site parking as available at zero cost. \nAdvertised as “the most comprehensive annual industrial exhibition in the UK and a major pan-European showcase”\, this event is a great opportunity to witness new technologies being created across a wide range of industries.
URL:https://fluency-group.com/industry-event/southern-manufacturing-electronics/
LOCATION:Exhibition and trade centre in Chobham\, England\, Chobham\, Woking\, Woking\, GU24 8JB\, United Kingdom
END:VEVENT
BEGIN:VEVENT
DTSTART;TZID=Europe/London:20240220T080000
DTEND;TZID=Europe/London:20240225T170000
DTSTAMP:20260421T104817
CREATED:20240131T155406Z
LAST-MODIFIED:20240131T155406Z
UID:1276-1708416000-1708880400@fluency-group.com
SUMMARY:Singapore Airshow
DESCRIPTION:The Singapore Airshow is Asia’s key aerospace and defense exhibition\, fostering strategic alliances and collaboration to shape the future of the global aviation industry. This biannual event serves as a platform for industry leaders\, government\, and military officials to engage in dialogue\, exchange ideas\, and advance the interests of the aerospace and defense sector.
URL:https://fluency-group.com/industry-event/singapore-airshow/
LOCATION:Changi Exhibition Centre\, Singapore\, Singapore
END:VEVENT
END:VCALENDAR