BEGIN:VCALENDAR
VERSION:2.0
PRODID:-//Fluency Group - ECPv6.15.20//NONSGML v1.0//EN
CALSCALE:GREGORIAN
METHOD:PUBLISH
X-WR-CALNAME:Fluency Group
X-ORIGINAL-URL:https://fluency-group.com
X-WR-CALDESC:Events for Fluency Group
REFRESH-INTERVAL;VALUE=DURATION:PT1H
X-Robots-Tag:noindex
X-PUBLISHED-TTL:PT1H
BEGIN:VTIMEZONE
TZID:Europe/London
BEGIN:DAYLIGHT
TZOFFSETFROM:+0000
TZOFFSETTO:+0100
TZNAME:BST
DTSTART:20250330T010000
END:DAYLIGHT
BEGIN:STANDARD
TZOFFSETFROM:+0100
TZOFFSETTO:+0000
TZNAME:GMT
DTSTART:20251026T010000
END:STANDARD
BEGIN:DAYLIGHT
TZOFFSETFROM:+0000
TZOFFSETTO:+0100
TZNAME:BST
DTSTART:20260329T010000
END:DAYLIGHT
BEGIN:STANDARD
TZOFFSETFROM:+0100
TZOFFSETTO:+0000
TZNAME:GMT
DTSTART:20261025T010000
END:STANDARD
BEGIN:DAYLIGHT
TZOFFSETFROM:+0000
TZOFFSETTO:+0100
TZNAME:BST
DTSTART:20270328T010000
END:DAYLIGHT
BEGIN:STANDARD
TZOFFSETFROM:+0100
TZOFFSETTO:+0000
TZNAME:GMT
DTSTART:20271031T010000
END:STANDARD
END:VTIMEZONE
BEGIN:VEVENT
DTSTART;TZID=Europe/London:20260419T080000
DTEND;TZID=Europe/London:20260422T170000
DTSTAMP:20260421T020919
CREATED:20251223T112502Z
LAST-MODIFIED:20251223T112502Z
UID:3390-1776585600-1776877200@fluency-group.com
SUMMARY:Sea Air Space 2026
DESCRIPTION:Powered by the Navy League of the United States\, Sea-Air-Space is the premier maritime exposition in the U.S.\, bringing together defense industry leaders and top military decision-makers from around the world to share the latest advancements in the maritime domain. With industry leading speakers and events featured across three impactful days\, Sea-Air-Space is a must-attend for anyone invested in the future of U.S. maritime strength and innovation.
URL:https://fluency-group.com/industry-event/sea-air-space-2026/
LOCATION:National Harbor\, 165 Waterfront Street\, MD\, 20745\, United States
END:VEVENT
BEGIN:VEVENT
DTSTART;TZID=Europe/London:20260420T080000
DTEND;TZID=Europe/London:20260424T170000
DTSTAMP:20260421T020919
CREATED:20251223T113113Z
LAST-MODIFIED:20251223T113113Z
UID:3393-1776672000-1777050000@fluency-group.com
SUMMARY:Hannover Messe
DESCRIPTION:HANNOVER MESSE 2026 focuses on clear structures\, targeted exchange and new formats that provide orientation\, foster dialogue and drive business. A new thematic architecture will open up synergies and bring the full breadth of industrial transformation to life.
URL:https://fluency-group.com/industry-event/hannover-messe-2/
LOCATION:Hannover Exhibition Grounds\, Hanover\, Germany
END:VEVENT
BEGIN:VEVENT
DTSTART;TZID=Europe/London:20260420T080000
DTEND;TZID=Europe/London:20260424T170000
DTSTAMP:20260421T020919
CREATED:20251223T113430Z
LAST-MODIFIED:20251223T113430Z
UID:3396-1776672000-1777050000@fluency-group.com
SUMMARY:MACH 2026
DESCRIPTION:The exhibition is an unmissable opportunity to connect with the engineering and manufacturing industry: With an unrivalled audience of 26\,000 attendees over a full 5-day show it is THE place for businesses to showcase products and services to those seeking cutting-edge technology and services.
URL:https://fluency-group.com/industry-event/mach-2026/
LOCATION:NEC Birmingham\, Pendigo Way\, Marston Green\, Birmingham\, Birmingham\, B40 1NT\, United Kingdom
END:VEVENT
BEGIN:VEVENT
DTSTART;TZID=Europe/London:20260421T080000
DTEND;TZID=Europe/London:20260423T170000
DTSTAMP:20260421T020919
CREATED:20251223T114209Z
LAST-MODIFIED:20251223T114209Z
UID:3401-1776758400-1776963600@fluency-group.com
SUMMARY:Wind Europe Annual Event
DESCRIPTION:WindEurope’s Annual Event returns to Spain\, but this time to the capital\, Madrid! The entire wind industry will be there from 21-23 April 2026. We are expecting over 500 companies to come and showcase their latest products and do business with each other.
URL:https://fluency-group.com/industry-event/wind-europe-annual-event/
LOCATION:IFEMA Feria de Madrid\, Madrid\, Spain
END:VEVENT
BEGIN:VEVENT
DTSTART;TZID=Europe/London:20260421T080000
DTEND;TZID=Europe/London:20260423T170000
DTSTAMP:20260421T020919
CREATED:20251223T114513Z
LAST-MODIFIED:20251223T114513Z
UID:3403-1776758400-1776963600@fluency-group.com
SUMMARY:MRO Americas
DESCRIPTION:Mark your calendars for April 21-23\, 2026\, as MRO Americas celebrates three decades of shaping the aviation maintenance industry.  MRO Americas delivers unprecedented opportunities to connect with decision-makers\, discover groundbreaking technologies\, and gain exclusive insights that will drive your business forward. With 17\,000+ attendees\, 1000+ exhibitors and 2\,000+ airline and lessor buyers\, representing 93+ countries\, missing MRO Americas means missing the year’s most significant aviation maintenance gathering.
URL:https://fluency-group.com/industry-event/mro-americas/
LOCATION:Orange County Convention Center\, United States
END:VEVENT
END:VCALENDAR