BEGIN:VCALENDAR
VERSION:2.0
PRODID:-//Fluency Group - ECPv6.15.20//NONSGML v1.0//EN
CALSCALE:GREGORIAN
METHOD:PUBLISH
X-ORIGINAL-URL:https://fluency-group.com
X-WR-CALDESC:Events for Fluency Group
REFRESH-INTERVAL;VALUE=DURATION:PT1H
X-Robots-Tag:noindex
X-PUBLISHED-TTL:PT1H
BEGIN:VTIMEZONE
TZID:Europe/London
BEGIN:DAYLIGHT
TZOFFSETFROM:+0000
TZOFFSETTO:+0100
TZNAME:BST
DTSTART:20250330T010000
END:DAYLIGHT
BEGIN:STANDARD
TZOFFSETFROM:+0100
TZOFFSETTO:+0000
TZNAME:GMT
DTSTART:20251026T010000
END:STANDARD
BEGIN:DAYLIGHT
TZOFFSETFROM:+0000
TZOFFSETTO:+0100
TZNAME:BST
DTSTART:20260329T010000
END:DAYLIGHT
BEGIN:STANDARD
TZOFFSETFROM:+0100
TZOFFSETTO:+0000
TZNAME:GMT
DTSTART:20261025T010000
END:STANDARD
BEGIN:DAYLIGHT
TZOFFSETFROM:+0000
TZOFFSETTO:+0100
TZNAME:BST
DTSTART:20270328T010000
END:DAYLIGHT
BEGIN:STANDARD
TZOFFSETFROM:+0100
TZOFFSETTO:+0000
TZNAME:GMT
DTSTART:20271031T010000
END:STANDARD
END:VTIMEZONE
BEGIN:VEVENT
DTSTART;TZID=Europe/London:20260330T080000
DTEND;TZID=Europe/London:20260402T170000
DTSTAMP:20260426T052828
CREATED:20251223T110027Z
LAST-MODIFIED:20251223T110027Z
UID:3379-1774857600-1775149200@fluency-group.com
SUMMARY:Global Industrie
DESCRIPTION:This unique show brings together the entire industrial ecosystem to explore tomorrow’s challenges together and create the synergies that will make up the industry of the future.\nPlan your visit now and be one of the 50\,000 professionals expected.
URL:https://fluency-group.com/industry-event/global-industrie/
LOCATION:PARIS-NORD VILLEPINTE\, Paris\, France
END:VEVENT
END:VCALENDAR